BEGIN:VCALENDAR
VERSION:2.0
PRODID:-//wp-events-plugin.com//7.2.3.1//EN
BEGIN:VEVENT
UID:8@doggenie.com
DTSTART:20260425T100000Z
DTEND:20260523T105000Z
DTSTAMP:20260417T160000Z
URL:https://doggenie.com/events/april-group-class-click-here/
SUMMARY:April Group Class Click Here!
DESCRIPTION:Have fun training your dog the positive way! This class will te
 ach you how to communicate with your dog using the clicker training method
 !\nSkills Taught:\nSit\, Watch\, Touch\, Down\, Stay\, Come\, Wait\, Loose
  Leash Walking and other important pet parenting skills!\n$199/5 classes\n
 \n\n 	April 25 – 10:00 am (Zoom Orientation)\n 	May 2 – 10:00 am  Val
 le Lindo Park (Coe St Entrance)\n 	May 9 – 10:00 am  Valle Lindo Park (
 Coe St Entrance)\n 	May 16 – 10:00 Valle Lindo Park (Coe St Entrance)\n 
 	May 23 – 10:00 Valle Lindo Park (Coe St Entrance)\n\nThe first class is
  the orientation session and is taught via Zoom from the comfort of your h
 ome.\nSessions 2 – 5 are in person\, includes clickers and workbook!\nTh
 is class is for dogs fully vaccinated\, 16 weeks and older.  This group c
 lass is not suitable for dogs with aggression issues toward other dogs or 
 people – private lessons can help you there!\n
ATTACH;FMTTYPE=image/jpeg:https://doggenie.com/wp-content/uploads/2024/07/
 IMG_2934.jpg
LOCATION:Valle Lindo Park\, 889 Aileen St\, Camarillo\, CA\, 93010\, United
  States
X-APPLE-STRUCTURED-LOCATION;VALUE=URI;X-ADDRESS=889 Aileen St\, Camarillo\,
  CA\, 93010\, United States;X-APPLE-RADIUS=100;X-TITLE=Valle Lindo Park:ge
 o:0,0
END:VEVENT
END:VCALENDAR